BEGIN:VCALENDAR
VERSION:2.0
PRODID:-//Afapac - ECPv6.8.2.1//NONSGML v1.0//EN
CALSCALE:GREGORIAN
METHOD:PUBLISH
X-ORIGINAL-URL:https://afapac.org
X-WR-CALDESC:Events for Afapac
REFRESH-INTERVAL;VALUE=DURATION:PT1H
X-Robots-Tag:noindex
X-PUBLISHED-TTL:PT1H
BEGIN:VTIMEZONE
TZID:UTC
BEGIN:STANDARD
TZOFFSETFROM:+0000
TZOFFSETTO:+0000
TZNAME:UTC
DTSTART:20190101T000000
END:STANDARD
END:VTIMEZONE
BEGIN:VEVENT
DTSTART;TZID=UTC:20191123T103000
DTEND;TZID=UTC:20191123T170000
DTSTAMP:20260421T012817
CREATED:20191104T114040Z
LAST-MODIFIED:20191119T091423Z
UID:2842-1574505000-1574528400@afapac.org
SUMMARY:Fes Esport Com Jo
DESCRIPTION:Fes Esport Com Jo\nBàsquet i boccia inclusius \n\nFes esport com jo es una jornada de deporte inclusivo de carácter festivo promovida por AFAPAC y con la colaboración de Sports PTB en su inicio\, con el objetivo de conseguir que los participantes se pongan los unos en la piel de los otros pasándolo bien disfrutando del deporte inclusivo. \nFecha y localización\nSábado 23 de noviembre de 2019\nComplejo Deportivo Municipal del Mar Bello\nAvda. Litoral 86-96\n08005 Barcelona \nINSCRÍBETE \n9:30 h Apertura del pabellón\n10:00 – 10:30 h Llegada de los inscritos\n10:45 – 13:45 h Competición de baloncesto y boccia\n14:00 – 15:00 h Pausa para comer\n15:15 – 16:15 h Finales de competición y entrega de premios\n16:15 – 17:45 h Junta General y fin de la jornada
URL:https://afapac.org/evento/fes-esport-com-jo/
LOCATION:Barcelona
ATTACH;FMTTYPE=image/jpeg:https://afapac.org/wp-content/uploads/FesEsportComJo_2019.jpg
END:VEVENT
END:VCALENDAR